BEGIN:VCALENDAR
VERSION:2.0
PRODID:-//Forever Chai | Foundation of Canada - ECPv6.15.20//NONSGML v1.0//EN
CALSCALE:GREGORIAN
METHOD:PUBLISH
X-WR-CALNAME:Forever Chai | Foundation of Canada
X-ORIGINAL-URL:https://www.foreverchai.org
X-WR-CALDESC:Events for Forever Chai | Foundation of Canada
REFRESH-INTERVAL;VALUE=DURATION:PT1H
X-Robots-Tag:noindex
X-PUBLISHED-TTL:PT1H
BEGIN:VTIMEZONE
TZID:America/Toronto
BEGIN:DAYLIGHT
TZOFFSETFROM:-0500
TZOFFSETTO:-0400
TZNAME:EDT
DTSTART:20150308T070000
END:DAYLIGHT
BEGIN:STANDARD
TZOFFSETFROM:-0400
TZOFFSETTO:-0500
TZNAME:EST
DTSTART:20151101T060000
END:STANDARD
BEGIN:DAYLIGHT
TZOFFSETFROM:-0500
TZOFFSETTO:-0400
TZNAME:EDT
DTSTART:20160313T070000
END:DAYLIGHT
BEGIN:STANDARD
TZOFFSETFROM:-0400
TZOFFSETTO:-0500
TZNAME:EST
DTSTART:20161106T060000
END:STANDARD
BEGIN:DAYLIGHT
TZOFFSETFROM:-0500
TZOFFSETTO:-0400
TZNAME:EDT
DTSTART:20170312T070000
END:DAYLIGHT
BEGIN:STANDARD
TZOFFSETFROM:-0400
TZOFFSETTO:-0500
TZNAME:EST
DTSTART:20171105T060000
END:STANDARD
BEGIN:DAYLIGHT
TZOFFSETFROM:-0500
TZOFFSETTO:-0400
TZNAME:EDT
DTSTART:20180311T070000
END:DAYLIGHT
BEGIN:STANDARD
TZOFFSETFROM:-0400
TZOFFSETTO:-0500
TZNAME:EST
DTSTART:20181104T060000
END:STANDARD
BEGIN:DAYLIGHT
TZOFFSETFROM:-0500
TZOFFSETTO:-0400
TZNAME:EDT
DTSTART:20190310T070000
END:DAYLIGHT
BEGIN:STANDARD
TZOFFSETFROM:-0400
TZOFFSETTO:-0500
TZNAME:EST
DTSTART:20191103T060000
END:STANDARD
BEGIN:DAYLIGHT
TZOFFSETFROM:-0500
TZOFFSETTO:-0400
TZNAME:EDT
DTSTART:20200308T070000
END:DAYLIGHT
BEGIN:STANDARD
TZOFFSETFROM:-0400
TZOFFSETTO:-0500
TZNAME:EST
DTSTART:20201101T060000
END:STANDARD
BEGIN:DAYLIGHT
TZOFFSETFROM:-0500
TZOFFSETTO:-0400
TZNAME:EDT
DTSTART:20210314T070000
END:DAYLIGHT
BEGIN:STANDARD
TZOFFSETFROM:-0400
TZOFFSETTO:-0500
TZNAME:EST
DTSTART:20211107T060000
END:STANDARD
BEGIN:DAYLIGHT
TZOFFSETFROM:-0500
TZOFFSETTO:-0400
TZNAME:EDT
DTSTART:20220313T070000
END:DAYLIGHT
BEGIN:STANDARD
TZOFFSETFROM:-0400
TZOFFSETTO:-0500
TZNAME:EST
DTSTART:20221106T060000
END:STANDARD
END:VTIMEZONE
BEGIN:VEVENT
DTSTART;TZID=America/Toronto:20210610T173000
DTEND;TZID=America/Toronto:20210610T193000
DTSTAMP:20260422T190504
CREATED:20200422T013009Z
LAST-MODIFIED:20200604T181912Z
UID:229-1623346200-1623353400@www.foreverchai.org
SUMMARY:Night of Hope Comedy & Dinner
DESCRIPTION:Co-chairs: Sue Forberg & Sherry Michaels-Adud \nFor more information\, please contact us at info@foreverchai.org or 416.695.8885 \n  \nPurchase Tickets \n 
URL:https://www.foreverchai.org/event/night-of-hope-comedy-dinner/
LOCATION:Parkview Manor\, 55 Barber Green Road\, North York\, Ontario\, Canada
ATTACH;FMTTYPE=image/jpeg:https://www.foreverchai.org/wp-content/uploads/2020/04/NEW-NightofHope-2020-FB-cover-1200x628-1.jpg
ORGANIZER;CN="Forever Chai":MAILTO:info@foreverchai.org 
END:VEVENT
BEGIN:VEVENT
DTSTART;TZID=America/Toronto:20191024T080000
DTEND;TZID=America/Toronto:20191024T170000
DTSTAMP:20260422T190504
CREATED:20200421T231913Z
LAST-MODIFIED:20200421T231913Z
UID:271-1571904000-1571936400@www.foreverchai.org
SUMMARY:FOREVER DISCO
DESCRIPTION:Co-Chairs: Esther Michaels\, Ellen Goldstein\, Marya Grad \n  \n SPONSORSHIP OPPORTUNITIES\nClick Here:
URL:https://www.foreverchai.org/event/forever-disco/
LOCATION:Toronto Centre for the Arts
ATTACH;FMTTYPE=image/jpeg:https://www.foreverchai.org/wp-content/uploads/2020/04/Forever-Disco-Full-Page-Ad-1-min-1.jpg
END:VEVENT
BEGIN:VEVENT
DTSTART;TZID=America/Toronto:20161023T190000
DTEND;TZID=America/Toronto:20161027T210000
DTSTAMP:20260422T190504
CREATED:20200421T232453Z
LAST-MODIFIED:20200421T232453Z
UID:278-1477249200-1477602000@www.foreverchai.org
SUMMARY:The Night Of Hope III
DESCRIPTION:A Halloween Party
URL:https://www.foreverchai.org/event/the-night-of-hope-iii/
LOCATION:Rosehill Venue Lounge
ATTACH;FMTTYPE=image/jpeg:https://www.foreverchai.org/wp-content/uploads/2020/04/2050-FC-Halloween-Invite-V12_0-min.jpg
END:VEVENT
END:VCALENDAR